BEGIN:VCALENDAR
VERSION:2.0
PRODID:-//sebbo.net//ical-generator//EN
METHOD:REQUEST
NAME:calendar
X-WR-CALNAME:calendar
BEGIN:VEVENT
UID:a6250450-ec35-4f44-8a3e-4465acfe800f
SEQUENCE:0
DTSTAMP:20260421T100726Z
DTSTART:20260613T200000Z
DTEND:20260613T210000Z
SUMMARY:Lisa
END:VEVENT
END:VCALENDAR