BEGIN:VCALENDAR
VERSION:2.0
PRODID:-//sebbo.net//ical-generator//EN
METHOD:REQUEST
NAME:calendar
X-WR-CALNAME:calendar
BEGIN:VEVENT
UID:61b7803a-6ed8-4006-9136-a1e5c98f2c7e
SEQUENCE:0
DTSTAMP:20260421T100817Z
DTSTART:20260706T093000Z
DTEND:20260706T160000Z
SUMMARY:Polysport-Camp Rheinfelden
END:VEVENT
END:VCALENDAR