BEGIN:VCALENDAR
VERSION:2.0
PRODID:-//sebbo.net//ical-generator//EN
METHOD:REQUEST
NAME:calendar
X-WR-CALNAME:calendar
BEGIN:VEVENT
UID:7fcedc0c-b3c1-44a4-9d3f-169456c04991
SEQUENCE:0
DTSTAMP:20260421T082709Z
DTSTART:20260318T140000Z
DTEND:20260318T160000Z
SUMMARY:Kreativ Raum
END:VEVENT
END:VCALENDAR