BEGIN:VCALENDAR
VERSION:2.0
PRODID:-//sebbo.net//ical-generator//EN
METHOD:REQUEST
NAME:calendar
X-WR-CALNAME:calendar
BEGIN:VEVENT
UID:fc6624b6-5da4-4795-8b54-ea1d5f55ef63
SEQUENCE:0
DTSTAMP:20260421T082208Z
DTSTART:20260612T200000Z
DTEND:20260612T210000Z
SUMMARY:Lisa
END:VEVENT
END:VCALENDAR