BEGIN:VCALENDAR
VERSION:2.0
PRODID:-//sebbo.net//ical-generator//EN
METHOD:REQUEST
NAME:calendar
X-WR-CALNAME:calendar
BEGIN:VEVENT
UID:47ada6f6-fce7-46fc-88a8-a16f6f0a9eef
SEQUENCE:0
DTSTAMP:20260421T100149Z
DTSTART:20260520T140000Z
DTEND:20260520T160000Z
SUMMARY:Kreativ Raum
END:VEVENT
END:VCALENDAR